BEGIN:VCALENDAR
VERSION:2.0
PRODID:-//Sabre//Sabre VObject 4.5.8//EN
CALSCALE:GREGORIAN
BEGIN:VEVENT
UID:criticalmass-one-hof-1645806600
DTSTAMP:20260423T000616Z
SUMMARY:Critical Mass Hof 25.02.2022
DTSTART;TZID=Europe/Berlin:20220225T173000
DTEND;TZID=Europe/Berlin:20220225T193000
LOCATION:Kugelbrunnen
GEO:50.318744;11.916271
URL;VALUE=URI:https://criticalmass.in/hof/2022-02-25
END:VEVENT
END:VCALENDAR
