BEGIN:VCALENDAR
VERSION:2.0
PRODID:-//Sabre//Sabre VObject 4.5.8//EN
CALSCALE:GREGORIAN
BEGIN:VEVENT
UID:criticalmass-one-hof-1640968200
DTSTAMP:20260424T091311Z
SUMMARY:Critical Mass Hof 31.12.2021
DTSTART;TZID=Europe/Berlin:20211231T173000
DTEND;TZID=Europe/Berlin:20211231T193000
LOCATION:Kugelbrunnen
GEO:50.318744;11.916271
URL;VALUE=URI:https://criticalmass.in/hof/2021-12-31
END:VEVENT
END:VCALENDAR
