BEGIN:VCALENDAR
VERSION:2.0
PRODID:-//Sabre//Sabre VObject 4.5.8//EN
CALSCALE:GREGORIAN
BEGIN:VEVENT
UID:criticalmass-one-hof-1632497400
DTSTAMP:20260424T105900Z
SUMMARY:Critical Mass Hof 24.09.2021
DTSTART;TZID=Europe/Berlin:20210924T173000
DTEND;TZID=Europe/Berlin:20210924T193000
LOCATION:Kugelbrunnen
GEO:50.318744;11.916271
URL;VALUE=URI:https://criticalmass.in/hof/2021-09-24
END:VEVENT
END:VCALENDAR
