BEGIN:VCALENDAR
VERSION:2.0
PRODID:-//Sabre//Sabre VObject 4.5.8//EN
CALSCALE:GREGORIAN
BEGIN:VEVENT
UID:criticalmass-one-hof-1627659000
DTSTAMP:20260423T115702Z
SUMMARY:Critical Mass Hof 30.07.2021
DTSTART;TZID=Europe/Berlin:20210730T173000
DTEND;TZID=Europe/Berlin:20210730T193000
LOCATION:Kugelbrunnen
GEO:50.318744;11.916271
URL;VALUE=URI:https://criticalmass.in/hof/2021-07-30
END:VEVENT
END:VCALENDAR
