BEGIN:VCALENDAR
VERSION:2.0
PRODID:-//Sabre//Sabre VObject 4.5.8//EN
CALSCALE:GREGORIAN
BEGIN:VEVENT
UID:criticalmass-one-hof-1624635000
DTSTAMP:20260423T184353Z
SUMMARY:Critical Mass Hof 25.06.2021
DTSTART;TZID=Europe/Berlin:20210625T173000
DTEND;TZID=Europe/Berlin:20210625T193000
LOCATION:Kugelbrunnen
GEO:50.318744;11.916271
URL;VALUE=URI:https://criticalmass.in/hof/2021-06-25
END:VEVENT
END:VCALENDAR
