BEGIN:VCALENDAR
VERSION:2.0
PRODID:-//Sabre//Sabre VObject 4.5.8//EN
CALSCALE:GREGORIAN
BEGIN:VEVENT
UID:criticalmass-one-hof-1604075400
DTSTAMP:20260423T232307Z
SUMMARY:Critical Mass Hof 30.10.2020
DTSTART;TZID=Europe/Berlin:20201030T173000
DTEND;TZID=Europe/Berlin:20201030T193000
LOCATION:Kugelbrunnen
GEO:50.318744;11.916271
URL;VALUE=URI:https://criticalmass.in/hof/2020-10-30
END:VEVENT
END:VCALENDAR
