BEGIN:VCALENDAR
VERSION:2.0
PRODID:-//Sabre//Sabre VObject 4.5.8//EN
CALSCALE:GREGORIAN
BEGIN:VEVENT
UID:criticalmass-one-herrenberg-1774087200
DTSTAMP:20260422T100056Z
SUMMARY:Critical Mass Herrenberg 21.03.2026
DTSTART;TZID=Europe/Berlin:20260321T110000
DTEND;TZID=Europe/Berlin:20260321T130000
LOCATION:Seeländer
GEO:48.597947;8.867997
URL;VALUE=URI:https://criticalmass.in/herrenberg/2026-03-21
END:VEVENT
END:VCALENDAR
