BEGIN:VCALENDAR
VERSION:2.0
PRODID:-//Sabre//Sabre VObject 4.5.8//EN
CALSCALE:GREGORIAN
BEGIN:VEVENT
UID:criticalmass-one-herrenberg-1752915600
DTSTAMP:20260422T194538Z
SUMMARY:Kidical Mass Herrenberg am 19. Juli
DESCRIPTION:Radel mit! 💪 Gemeinsam durch Herrenberg - selbst und sicher!
 \n\n🙌 Straßen sind für alle da!\nWir fordern bessere Radwege für Her
 renberg\, damit sich unsere Kinder sicher und eigenständig fortbewegen k
 önnen!\n\nDie Kidical Mass ist eine organisierte Fahrradtour für Kinder 
 und Erwachsene. Gemeinsam fahren wir durch Herrenberg - mit Begleitung der
  Polizei.\n\n🚲 Je größer die Gruppe\, desto stärker unsere Forderung
 !\n\n👉KIDICAL MASS\n19. Juli 2025\n11 Uhr\, Seeländer
DTSTART;TZID=Europe/Berlin:20250719T110000
DTEND;TZID=Europe/Berlin:20250719T130000
LOCATION:Seeländer
GEO:48.596667;8.870833
URL;VALUE=URI:https://criticalmass.in/herrenberg/2025-07-19
END:VEVENT
END:VCALENDAR
