BEGIN:VCALENDAR
VERSION:2.0
PRODID:-//Sabre//Sabre VObject 4.5.8//EN
CALSCALE:GREGORIAN
BEGIN:VEVENT
UID:criticalmass-one-herrenberg-1676048400
DTSTAMP:20260422T231223Z
SUMMARY:Critical Mass Herrenberg 10.02.2023
DTSTART;TZID=Europe/Berlin:20230210T180000
DTEND;TZID=Europe/Berlin:20230210T200000
LOCATION:Café Barista
GEO:48.595163;8.868000
URL;VALUE=URI:https://criticalmass.in/herrenberg/2023-02-10
END:VEVENT
END:VCALENDAR
