BEGIN:VCALENDAR
VERSION:2.0
PRODID:-//Sabre//Sabre VObject 4.5.8//EN
CALSCALE:GREGORIAN
BEGIN:VEVENT
UID:criticalmass-one-herrenberg-1668186000
DTSTAMP:20260423T053411Z
SUMMARY:Critical Mass Herrenberg 11.11.2022
DTSTART;TZID=Europe/Berlin:20221111T180000
DTEND;TZID=Europe/Berlin:20221111T200000
LOCATION:Café Barista
GEO:48.595163;8.868000
URL;VALUE=URI:https://criticalmass.in/herrenberg/2022-11-11
END:VEVENT
END:VCALENDAR
