BEGIN:VCALENDAR
VERSION:2.0
PRODID:-//Sabre//Sabre VObject 4.5.8//EN
CALSCALE:GREGORIAN
BEGIN:VEVENT
UID:criticalmass-one-herrenberg-1654876800
DTSTAMP:20260425T105442Z
SUMMARY:Critical Mass Herrenberg 10.06.2022
DTSTART;TZID=Europe/Berlin:20220610T180000
DTEND;TZID=Europe/Berlin:20220610T200000
LOCATION:Café Barista
GEO:48.595163;8.868000
URL;VALUE=URI:https://criticalmass.in/herrenberg/2022-06-10
END:VEVENT
END:VCALENDAR
