BEGIN:VCALENDAR
VERSION:2.0
PRODID:-//Sabre//Sabre VObject 4.5.8//EN
CALSCALE:GREGORIAN
BEGIN:VEVENT
UID:criticalmass-one-herrenberg-1639155600
DTSTAMP:20260422T231225Z
SUMMARY:Critical Mass Herrenberg 10.12.2021
DTSTART;TZID=Europe/Berlin:20211210T180000
DTEND;TZID=Europe/Berlin:20211210T200000
LOCATION:Café Barista
GEO:48.595163;8.868000
URL;VALUE=URI:https://criticalmass.in/herrenberg/2021-12-10
END:VEVENT
END:VCALENDAR
