BEGIN:VCALENDAR
VERSION:2.0
PRODID:-//Sabre//Sabre VObject 4.5.8//EN
CALSCALE:GREGORIAN
BEGIN:VEVENT
UID:criticalmass-one-herrenberg-1631289600
DTSTAMP:20260423T125349Z
SUMMARY:Critical Mass Herrenberg 10.09.2021
DTSTART;TZID=Europe/Berlin:20210910T180000
DTEND;TZID=Europe/Berlin:20210910T200000
LOCATION:Café Barista
GEO:48.595163;8.868000
URL;VALUE=URI:https://criticalmass.in/herrenberg/2021-09-10
END:VEVENT
END:VCALENDAR
