BEGIN:VCALENDAR
VERSION:2.0
PRODID:-//Sabre//Sabre VObject 4.5.8//EN
CALSCALE:GREGORIAN
BEGIN:VEVENT
UID:criticalmass-one-herrenberg-1613149200
DTSTAMP:20260423T084658Z
SUMMARY:Critical Mass Herrenberg 12.02.2021
DTSTART;TZID=Europe/Berlin:20210212T180000
DTEND;TZID=Europe/Berlin:20210212T200000
LOCATION:Café Barista
GEO:48.595163;8.868000
URL;VALUE=URI:https://criticalmass.in/herrenberg/2021-02-12
END:VEVENT
END:VCALENDAR
