BEGIN:VCALENDAR
VERSION:2.0
PRODID:-//Sabre//Sabre VObject 4.5.8//EN
CALSCALE:GREGORIAN
BEGIN:VEVENT
UID:criticalmass-one-herrenberg-1594396800
DTSTAMP:20260423T112844Z
SUMMARY:Critical Mass Herrenberg 10.07.2020
DTSTART;TZID=Europe/Berlin:20200710T180000
DTEND;TZID=Europe/Berlin:20200710T200000
LOCATION:Café Barista
GEO:48.595163;8.868000
URL;VALUE=URI:https://criticalmass.in/herrenberg/2020-07-10
END:VEVENT
END:VCALENDAR
