BEGIN:VCALENDAR
VERSION:2.0
PRODID:-//Sabre//Sabre VObject 4.5.8//EN
CALSCALE:GREGORIAN
BEGIN:VEVENT
UID:criticalmass-one-herrenberg-1568390400
DTSTAMP:20260423T112914Z
SUMMARY:Critical Mass Herrenberg 13.09.2019
DTSTART;TZID=Europe/Berlin:20190913T180000
DTEND;TZID=Europe/Berlin:20190913T200000
LOCATION:Café Barista
GEO:48.595163;8.868000
URL;VALUE=URI:https://criticalmass.in/herrenberg/2019-09-13
END:VEVENT
END:VCALENDAR
