BEGIN:VCALENDAR
VERSION:2.0
PRODID:-//Sabre//Sabre VObject 4.5.8//EN
CALSCALE:GREGORIAN
BEGIN:VEVENT
UID:criticalmass-one-herrenberg-1536940800
DTSTAMP:20260423T112923Z
SUMMARY:Critical Mass Herrenberg 14.09.2018
DTSTART;TZID=Europe/Berlin:20180914T180000
DTEND;TZID=Europe/Berlin:20180914T200000
LOCATION:Café Barista
GEO:48.595163;8.868000
URL;VALUE=URI:https://criticalmass.in/herrenberg/2018-09-14
END:VEVENT
END:VCALENDAR
