BEGIN:VCALENDAR
VERSION:2.0
PRODID:-//Sabre//Sabre VObject 4.5.8//EN
CALSCALE:GREGORIAN
BEGIN:VEVENT
UID:criticalmass-one-herrenberg-1526054400
DTSTAMP:20260424T232705Z
SUMMARY:Critical Mass Herrenberg 11.05.2018
DTSTART;TZID=Europe/Berlin:20180511T180000
DTEND;TZID=Europe/Berlin:20180511T200000
LOCATION:Café Barista
GEO:48.595163;8.868000
URL;VALUE=URI:https://criticalmass.in/herrenberg/2018-05-11
END:VEVENT
END:VCALENDAR
