BEGIN:VCALENDAR
VERSION:2.0
PRODID:-//Sabre//Sabre VObject 4.5.8//EN
CALSCALE:GREGORIAN
BEGIN:VEVENT
UID:criticalmass-one-herrenberg-1515776400
DTSTAMP:20260423T003741Z
SUMMARY:Critical Mass Herrenberg 12.01.2018
DTSTART;TZID=Europe/Berlin:20180112T180000
DTEND;TZID=Europe/Berlin:20180112T200000
LOCATION:Café Barista
GEO:48.595163;8.868000
URL;VALUE=URI:https://criticalmass.in/herrenberg/2018-01-12
END:VEVENT
END:VCALENDAR
