BEGIN:VCALENDAR
VERSION:2.0
PRODID:-//Sabre//Sabre VObject 4.5.8//EN
CALSCALE:GREGORIAN
BEGIN:VEVENT
UID:criticalmass-one-herrenberg-1500048000
DTSTAMP:20260422T090340Z
SUMMARY:Critical Mass Herrenberg 14.07.2017
DTSTART;TZID=Europe/Berlin:20170714T180000
DTEND;TZID=Europe/Berlin:20170714T200000
LOCATION:Café Barista
GEO:48.595163;8.868000
URL;VALUE=URI:https://criticalmass.in/herrenberg/2017-07-14
END:VEVENT
END:VCALENDAR
