BEGIN:VCALENDAR
VERSION:2.0
PRODID:-//Sabre//Sabre VObject 4.5.8//EN
CALSCALE:GREGORIAN
BEGIN:VEVENT
UID:criticalmass-one-herrenberg-1497024000
DTSTAMP:20260423T143033Z
SUMMARY:Critical Mass Herrenberg 09.06.2017
DTSTART;TZID=Europe/Berlin:20170609T180000
DTEND;TZID=Europe/Berlin:20170609T200000
LOCATION:Café Barista
GEO:48.595163;8.868000
URL;VALUE=URI:https://criticalmass.in/herrenberg/2017-06-09
END:VEVENT
END:VCALENDAR
