BEGIN:VCALENDAR
VERSION:2.0
PRODID:-//Sabre//Sabre VObject 4.5.8//EN
CALSCALE:GREGORIAN
BEGIN:VEVENT
UID:criticalmass-one-herrenberg-1494604800
DTSTAMP:20260423T224142Z
SUMMARY:Critical Mass Herrenberg 12.05.2017
DTSTART;TZID=Europe/Berlin:20170512T180000
DTEND;TZID=Europe/Berlin:20170512T200000
LOCATION:Café Barista
GEO:48.595163;8.868000
URL;VALUE=URI:https://criticalmass.in/herrenberg/2017-05-12
END:VEVENT
END:VCALENDAR
