BEGIN:VCALENDAR
VERSION:2.0
PRODID:-//Sabre//Sabre VObject 4.5.8//EN
CALSCALE:GREGORIAN
BEGIN:VEVENT
UID:criticalmass-one-herrenberg-1457715600
DTSTAMP:20260423T112827Z
SUMMARY:Critical Mass Herrenberg 11.03.2016
DTSTART;TZID=Europe/Berlin:20160311T180000
DTEND;TZID=Europe/Berlin:20160311T200000
LOCATION:Café Barista
GEO:48.595163;8.868000
URL;VALUE=URI:https://criticalmass.in/herrenberg/2016-03-11
END:VEVENT
END:VCALENDAR
