BEGIN:VCALENDAR
VERSION:2.0
PRODID:-//Sabre//Sabre VObject 4.5.8//EN
CALSCALE:GREGORIAN
BEGIN:VEVENT
UID:criticalmass-one-herrenberg-1403884800
DTSTAMP:20260425T160119Z
SUMMARY:Critical Mass Herrenberg 27.06.2014
DTSTART;TZID=Europe/Berlin:20140627T180000
DTEND;TZID=Europe/Berlin:20140627T200000
LOCATION:Café Barista
GEO:48.595163;8.868000
URL;VALUE=URI:https://criticalmass.in/herrenberg/2014-06-27
END:VEVENT
END:VCALENDAR
