BEGIN:VCALENDAR
VERSION:2.0
PRODID:-//Sabre//Sabre VObject 4.5.8//EN
CALSCALE:GREGORIAN
BEGIN:VEVENT
UID:criticalmass-one-herrenberg-1397232000
DTSTAMP:20260422T112113Z
SUMMARY:Critical Mass Herrenberg 11.04.2014
DTSTART;TZID=Europe/Berlin:20140411T180000
DTEND;TZID=Europe/Berlin:20140411T200000
LOCATION:Café Barista
GEO:48.595163;8.868000
URL;VALUE=URI:https://criticalmass.in/herrenberg/2014-04-11
END:VEVENT
END:VCALENDAR
