BEGIN:VCALENDAR
VERSION:2.0
PRODID:-//Sabre//Sabre VObject 4.5.8//EN
CALSCALE:GREGORIAN
BEGIN:VEVENT
UID:criticalmass-one-herne-1773856800
DTSTAMP:20260426T011212Z
SUMMARY:Critical Mass Herne 18.03.2026
DTSTART;TZID=Europe/Berlin:20260318T190000
DTEND;TZID=Europe/Berlin:20260318T210000
LOCATION:Hauptbahnhof
GEO:51.544315;7.217922
URL;VALUE=URI:https://criticalmass.in/herne/2026-03-18
END:VEVENT
END:VCALENDAR
