BEGIN:VCALENDAR
VERSION:2.0
PRODID:-//Sabre//Sabre VObject 4.5.8//EN
CALSCALE:GREGORIAN
BEGIN:VEVENT
UID:criticalmass-one-hennef-1664110800
DTSTAMP:20260424T205536Z
SUMMARY:Kidical Mass Hennef 25.09.2022
DTSTART;TZID=Europe/Berlin:20220925T150000
DTEND;TZID=Europe/Berlin:20220925T170000
LOCATION:Marktplatz
GEO:50.775462;7.283261
URL;VALUE=URI:https://criticalmass.in/hennef/kidical-mass-hennef-september-
 2022
END:VEVENT
END:VCALENDAR
