BEGIN:VCALENDAR
VERSION:2.0
PRODID:-//Sabre//Sabre VObject 4.5.8//EN
CALSCALE:GREGORIAN
BEGIN:VEVENT
UID:criticalmass-one-heilbronn-1720198800
DTSTAMP:20260424T092333Z
SUMMARY:Critical Mass Heilbronn 05.07.2024
DTSTART;TZID=Europe/Berlin:20240705T190000
DTEND;TZID=Europe/Berlin:20240705T210000
LOCATION:Götzenturm
GEO:49.139798;9.215013
URL;VALUE=URI:https://criticalmass.in/heilbronn/2024-07-05
END:VEVENT
END:VCALENDAR
