BEGIN:VCALENDAR
VERSION:2.0
PRODID:-//Sabre//Sabre VObject 4.5.8//EN
CALSCALE:GREGORIAN
BEGIN:VEVENT
UID:criticalmass-one-heilbronn-1675447200
DTSTAMP:20260424T104928Z
SUMMARY:Critical Mass Heilbronn 03.02.2023
DTSTART;TZID=Europe/Berlin:20230203T190000
DTEND;TZID=Europe/Berlin:20230203T210000
LOCATION:Götzenturm
GEO:49.139798;9.215013
URL;VALUE=URI:https://criticalmass.in/heilbronn/2023-02-03
END:VEVENT
END:VCALENDAR
