BEGIN:VCALENDAR
VERSION:2.0
PRODID:-//Sabre//Sabre VObject 4.5.8//EN
CALSCALE:GREGORIAN
BEGIN:VEVENT
UID:criticalmass-one-heilbronn-1651856400
DTSTAMP:20260423T171719Z
SUMMARY:Critical Mass Heilbronn 06.05.2022
DTSTART;TZID=Europe/Berlin:20220506T190000
DTEND;TZID=Europe/Berlin:20220506T210000
LOCATION:Götzenturm
GEO:49.139798;9.215013
URL;VALUE=URI:https://criticalmass.in/heilbronn/2022-05-06
END:VEVENT
END:VCALENDAR
