BEGIN:VCALENDAR
VERSION:2.0
PRODID:-//Sabre//Sabre VObject 4.5.8//EN
CALSCALE:GREGORIAN
BEGIN:VEVENT
UID:criticalmass-one-heilbronn-1648832400
DTSTAMP:20260423T112056Z
SUMMARY:Critical Mass Heilbronn 01.04.2022
DTSTART;TZID=Europe/Berlin:20220401T190000
DTEND;TZID=Europe/Berlin:20220401T210000
LOCATION:Götzenturm
GEO:49.139798;9.215013
URL;VALUE=URI:https://criticalmass.in/heilbronn/2022-04-01
END:VEVENT
END:VCALENDAR
