BEGIN:VCALENDAR
VERSION:2.0
PRODID:-//Sabre//Sabre VObject 4.5.8//EN
CALSCALE:GREGORIAN
BEGIN:VEVENT
UID:criticalmass-one-heilbronn-1643997600
DTSTAMP:20260423T190028Z
SUMMARY:Critical Mass Heilbronn 04.02.2022
DTSTART;TZID=Europe/Berlin:20220204T190000
DTEND;TZID=Europe/Berlin:20220204T210000
LOCATION:Götzenturm
GEO:49.139798;9.215013
URL;VALUE=URI:https://criticalmass.in/heilbronn/2022-02-04
END:VEVENT
END:VCALENDAR
