BEGIN:VCALENDAR
VERSION:2.0
PRODID:-//Sabre//Sabre VObject 4.5.8//EN
CALSCALE:GREGORIAN
BEGIN:VEVENT
UID:criticalmass-one-heilbronn-1638554400
DTSTAMP:20260423T171728Z
SUMMARY:Critical Mass Heilbronn 03.12.2021
DTSTART;TZID=Europe/Berlin:20211203T190000
DTEND;TZID=Europe/Berlin:20211203T210000
LOCATION:Götzenturm
GEO:49.139798;9.215013
URL;VALUE=URI:https://criticalmass.in/heilbronn/2021-12-03
END:VEVENT
END:VCALENDAR
