BEGIN:VCALENDAR
VERSION:2.0
PRODID:-//Sabre//Sabre VObject 4.5.8//EN
CALSCALE:GREGORIAN
BEGIN:VEVENT
UID:criticalmass-one-heilbronn-1622826000
DTSTAMP:20260423T095202Z
SUMMARY:Critical Mass Heilbronn 04.06.2021
DTSTART;TZID=Europe/Berlin:20210604T190000
DTEND;TZID=Europe/Berlin:20210604T210000
LOCATION:Götzenturm
GEO:49.139798;9.215013
URL;VALUE=URI:https://criticalmass.in/heilbronn/2021-06-04
END:VEVENT
END:VCALENDAR
