BEGIN:VCALENDAR
VERSION:2.0
PRODID:-//Sabre//Sabre VObject 4.5.8//EN
CALSCALE:GREGORIAN
BEGIN:VEVENT
UID:criticalmass-one-heilbronn-1617375600
DTSTAMP:20260423T063946Z
SUMMARY:Critical Mass Heilbronn 02.04.2021
DTSTART;TZID=Europe/Berlin:20210402T170000
DTEND;TZID=Europe/Berlin:20210402T190000
LOCATION:Götzenturm
GEO:49.139798;9.215013
URL;VALUE=URI:https://criticalmass.in/heilbronn/2021-04-02
END:VEVENT
END:VCALENDAR
