BEGIN:VCALENDAR
VERSION:2.0
PRODID:-//Sabre//Sabre VObject 4.5.8//EN
CALSCALE:GREGORIAN
BEGIN:VEVENT
UID:criticalmass-one-heilbronn-1599238800
DTSTAMP:20260425T181917Z
SUMMARY:Critical Mass Heilbronn 04.09.2020
DESCRIPTION:Treffpunkt seit Juli 2020 immer am Rathausplatz
DTSTART;TZID=Europe/Berlin:20200904T190000
DTEND;TZID=Europe/Berlin:20200904T210000
LOCATION:Radhausplatz
GEO:49.142214;9.218609
URL;VALUE=URI:https://criticalmass.in/heilbronn/2020-09-04
END:VEVENT
END:VCALENDAR
