BEGIN:VCALENDAR
VERSION:2.0
PRODID:-//Sabre//Sabre VObject 4.5.8//EN
CALSCALE:GREGORIAN
BEGIN:VEVENT
UID:criticalmass-one-heilbronn-1593795600
DTSTAMP:20260423T171553Z
SUMMARY:Critical Mass Heilbronn 03.07.2020
DTSTART;TZID=Europe/Berlin:20200703T190000
DTEND;TZID=Europe/Berlin:20200703T210000
LOCATION:Götzenturm
GEO:49.139798;9.215013
URL;VALUE=URI:https://criticalmass.in/heilbronn/2020-07-03
END:VEVENT
END:VCALENDAR
