BEGIN:VCALENDAR
VERSION:2.0
PRODID:-//Sabre//Sabre VObject 4.5.8//EN
CALSCALE:GREGORIAN
BEGIN:VEVENT
UID:criticalmass-one-heilbronn-1520013600
DTSTAMP:20260424T100851Z
SUMMARY:Critical Mass Heilbronn 02.03.2018
DTSTART;TZID=Europe/Berlin:20180302T190000
DTEND;TZID=Europe/Berlin:20180302T210000
LOCATION:Götzenturm
GEO:49.139798;9.215013
URL;VALUE=URI:https://criticalmass.in/heilbronn/2018-03-02
END:VEVENT
END:VCALENDAR
