BEGIN:VCALENDAR
VERSION:2.0
PRODID:-//Sabre//Sabre VObject 4.5.8//EN
CALSCALE:GREGORIAN
BEGIN:VEVENT
UID:criticalmass-one-heilbronn-1501866000
DTSTAMP:20260423T111857Z
SUMMARY:Critical Mass Heilbronn 04.08.2017
DTSTART;TZID=Europe/Berlin:20170804T190000
DTEND;TZID=Europe/Berlin:20170804T210000
LOCATION:Götzenturm
GEO:49.139798;9.215013
URL;VALUE=URI:https://criticalmass.in/heilbronn/2017-08-04
END:VEVENT
END:VCALENDAR
