BEGIN:VCALENDAR
VERSION:2.0
PRODID:-//Sabre//Sabre VObject 4.5.8//EN
CALSCALE:GREGORIAN
BEGIN:VEVENT
UID:criticalmass-one-heilbronn-1480698000
DTSTAMP:20260423T050723Z
SUMMARY:Critical Mass Heilbronn 02.12.2016
DTSTART;TZID=Europe/Berlin:20161202T180000
DTEND;TZID=Europe/Berlin:20161202T200000
LOCATION:Götzenturm
GEO:49.139798;9.215013
URL;VALUE=URI:https://criticalmass.in/heilbronn/2016-12-02
END:VEVENT
END:VCALENDAR
