BEGIN:VCALENDAR
VERSION:2.0
PRODID:-//Sabre//Sabre VObject 4.5.8//EN
CALSCALE:GREGORIAN
BEGIN:VEVENT
UID:criticalmass-one-heilbronn-1470416400
DTSTAMP:20260424T155154Z
SUMMARY:Critical Mass Heilbronn 05.08.2016
DTSTART;TZID=Europe/Berlin:20160805T190000
DTEND;TZID=Europe/Berlin:20160805T210000
LOCATION:Götzenturm
GEO:49.139798;9.215013
URL;VALUE=URI:https://criticalmass.in/heilbronn/2016-08-05
END:VEVENT
END:VCALENDAR
