BEGIN:VCALENDAR
VERSION:2.0
PRODID:-//Sabre//Sabre VObject 4.5.8//EN
CALSCALE:GREGORIAN
BEGIN:VEVENT
UID:criticalmass-one-heilbronn-1446832800
DTSTAMP:20260424T135142Z
SUMMARY:Critical Mass Heilbronn 06.11.2015
DTSTART;TZID=Europe/Berlin:20151106T190000
DTEND;TZID=Europe/Berlin:20151106T210000
LOCATION:Götzenturm
GEO:49.139798;9.215013
URL;VALUE=URI:https://criticalmass.in/heilbronn/2015-11-06
END:VEVENT
END:VCALENDAR
