BEGIN:VCALENDAR
VERSION:2.0
PRODID:-//Sabre//Sabre VObject 4.5.8//EN
CALSCALE:GREGORIAN
BEGIN:VEVENT
UID:criticalmass-one-heilbronn-1435942800
DTSTAMP:20260424T100840Z
SUMMARY:Critical Mass Heilbronn 03.07.2015
DTSTART;TZID=Europe/Berlin:20150703T190000
DTEND;TZID=Europe/Berlin:20150703T210000
LOCATION:Götzenturm
GEO:49.139798;9.215013
URL;VALUE=URI:https://criticalmass.in/heilbronn/2015-07-03
END:VEVENT
END:VCALENDAR
