BEGIN:VCALENDAR
VERSION:2.0
PRODID:-//Sabre//Sabre VObject 4.5.8//EN
CALSCALE:GREGORIAN
BEGIN:VEVENT
UID:criticalmass-one-heidenheim-1759582800
DTSTAMP:20260422T062515Z
SUMMARY:Kidical Mass Heidenheim 04.10.2025
DESCRIPTION:Achtung\, Datum noch unklar.\nLeider gibt es noch keinen festge
 legten Termin\; am 27.9. oder 4.10. findet wieder die Kidical Mass in Heid
 enheim statt. Hier wird das korrekte Datum stehen.
DTSTART;TZID=Europe/Berlin:20251004T150000
DTEND;TZID=Europe/Berlin:20251004T170000
LOCATION:Heidenheim Heidenheim Levillain-Anlage bei den Schlossarkaden\, Ba
 hnhofpl. 6
GEO:48.679480;10.155247
URL;VALUE=URI:https://criticalmass.in/heidenheim/kidical-mass-heidenheim-ok
 tober-2025
END:VEVENT
END:VCALENDAR
