BEGIN:VCALENDAR
VERSION:2.0
PRODID:-//Sabre//Sabre VObject 4.5.8//EN
CALSCALE:GREGORIAN
BEGIN:VEVENT
UID:criticalmass-one-heidenheim-1746882000
DTSTAMP:20260422T075456Z
SUMMARY:Kidical Mass Heidenheim 10.05.2025
DESCRIPTION:Unsere Stadt muss kinder-\, fahrradfreundlicher und damit zukun
 ftsfähiger werden!\n\nAm 10.05.2025 findet wieder die Kidical Mass in Hei
 denheim statt. Wir starten um 15 Uhr in der Georges-Levillain-Anlage und f
 ahren dann in sehr langsamem Tempo durch die Stadt\, damit auch Kleinkinde
 r auf Laufrädern problemlos mitfahren können. Es werden viele Kinder und
  Jugendliche mitfahren\, als Passagiere in Radanhänger oder Lastenrad\, a
 uf Trailerbikes oder selbständig auf Laufrad oder Fahrrad. Auch Tretrolle
 r/Scooter können genutzt werden.
DTSTART;TZID=Europe/Berlin:20250510T150000
DTEND;TZID=Europe/Berlin:20250510T170000
LOCATION:Heidenheim Levillain-Anlage bei den Schlossarkaden\, Bahnhofpl. 6
GEO:48.679429;10.154430
URL;VALUE=URI:https://criticalmass.in/heidenheim/kidical-mass-heidenheim-ma
 i-2025
END:VEVENT
END:VCALENDAR
