BEGIN:VCALENDAR
VERSION:2.0
PRODID:-//Sabre//Sabre VObject 4.5.8//EN
CALSCALE:GREGORIAN
BEGIN:VEVENT
UID:criticalmass-one-heidenheim-1725033600
DTSTAMP:20260424T123536Z
SUMMARY:Critical Mass Heidenheim 30.08.2024
DTSTART;TZID=Europe/Berlin:20240830T180000
DTEND;TZID=Europe/Berlin:20240830T200000
LOCATION:Rathaus
GEO:48.676743;10.152788
URL;VALUE=URI:https://criticalmass.in/heidenheim/2024-08-30
END:VEVENT
END:VCALENDAR
