BEGIN:VCALENDAR
VERSION:2.0
PRODID:-//Sabre//Sabre VObject 4.5.8//EN
CALSCALE:GREGORIAN
BEGIN:VEVENT
UID:criticalmass-one-heidenheim-1696003200
DTSTAMP:20260422T012515Z
SUMMARY:Critical Mass Heidenheim 29.09.2023
DTSTART;TZID=Europe/Berlin:20230929T180000
DTEND;TZID=Europe/Berlin:20230929T200000
LOCATION:Rathaus
GEO:48.676743;10.152788
URL;VALUE=URI:https://criticalmass.in/heidenheim/2023-09-29
END:VEVENT
END:VCALENDAR
