BEGIN:VCALENDAR
VERSION:2.0
PRODID:-//Sabre//Sabre VObject 4.5.8//EN
CALSCALE:GREGORIAN
BEGIN:VEVENT
UID:criticalmass-one-heidenheim-1606496400
DTSTAMP:20260423T232813Z
SUMMARY:Critical Mass Heidenheim 27.11.2020
DTSTART;TZID=Europe/Berlin:20201127T180000
DTEND;TZID=Europe/Berlin:20201127T200000
LOCATION:Rathaus
GEO:48.676743;10.152788
URL;VALUE=URI:https://criticalmass.in/heidenheim/2020-11-27
END:VEVENT
END:VCALENDAR
