BEGIN:VCALENDAR
VERSION:2.0
PRODID:-//Sabre//Sabre VObject 4.5.8//EN
CALSCALE:GREGORIAN
BEGIN:VEVENT
UID:criticalmass-one-heidenheim-1604077200
DTSTAMP:20260423T143350Z
SUMMARY:Critical Mass Heidenheim 30.10.2020
DTSTART;TZID=Europe/Berlin:20201030T180000
DTEND;TZID=Europe/Berlin:20201030T200000
LOCATION:Rathaus
GEO:48.676743;10.152788
URL;VALUE=URI:https://criticalmass.in/heidenheim/2020-10-30
END:VEVENT
END:VCALENDAR
