BEGIN:VCALENDAR
VERSION:2.0
PRODID:-//Sabre//Sabre VObject 4.5.8//EN
CALSCALE:GREGORIAN
BEGIN:VEVENT
UID:criticalmass-one-heidenheim-1580490000
DTSTAMP:20260423T143420Z
SUMMARY:Critical Mass Heidenheim 31.01.2020
DTSTART;TZID=Europe/Berlin:20200131T180000
DTEND;TZID=Europe/Berlin:20200131T200000
LOCATION:Rathaus
GEO:48.676743;10.152788
URL;VALUE=URI:https://criticalmass.in/heidenheim/2020-01-31
END:VEVENT
END:VCALENDAR
